BEGIN:VCALENDAR
PRODID: -//Microsoft Corporation//Outlook 12.0 MIMEDIR//EN
VERSION:2.0
METHOD:PUBLISH
X-MS-OLK-FORCEINSPECTOROPEN:TRUE
BEGIN:VEVENT
CLASS:PUBLIC
CREATED:2026-04-23T01:36:09
DESCRIPTION:This meeting provides an opportunity for ESC Region 11 superintendents to meet for information, updates, and support. Zoom option offered.
DTEND:20240110T113000
DTSTAMP:20240110T100000
DTSTART:20240110T100000
LAST-MODIFIED:2026-04-23T01:36:09
LOCATION:ESC Region 11
PRIORITY:5
SEQUENCE:0
SUMMARY;LANGUAGE=en-us:TASA/Superintendent Study Group Meeting
TRANSP:OPAQUE
UID:CentralRegistration@esc11.net
SUMMARY:TASA/Superintendent Study Group Meeting
X-MICROSOFT-CDO-BUSYSTATUS:BUSY
X-MICROSOFT-CDO-IMPORTANCE:1
BEGIN:VALARM
TRIGGER:-PT15M
ACTION:DISPLAY
DESCRIPTION:Reminder
END:VALARM
END:VEVENT
END:VCALENDAR
