BEGIN:VCALENDAR
PRODID: -//Microsoft Corporation//Outlook 12.0 MIMEDIR//EN
VERSION:2.0
METHOD:PUBLISH
X-MS-OLK-FORCEINSPECTOROPEN:TRUE
BEGIN:VEVENT
CLASS:PUBLIC
CREATED:2026-04-21T06:35:48
DESCRIPTION:Join us for a day of book care and repair led by Demco's Book Doctor. Book repair supplies will be provided for this workshop, so bring your books and let's make them new! Included in this session will be an introduction to Shelf Spark, which can help you showcase your collection. 
*Space is limited

This session will take place at the ESC Region 11 Annex Building, located at 1501 S. Cherry Ln., White Settlement.
DTEND:20230726T150000
DTSTAMP:20230726T090000
DTSTART:20230726T090000
LAST-MODIFIED:2026-04-21T06:35:48
LOCATION:ESC Region 11 Annex Large Conference Room
PRIORITY:5
SEQUENCE:0
SUMMARY;LANGUAGE=en-us:Book Doctor Book Care & Repair
TRANSP:OPAQUE
UID:CentralRegistration@esc11.net
SUMMARY:Book Doctor Book Care & Repair
X-MICROSOFT-CDO-BUSYSTATUS:BUSY
X-MICROSOFT-CDO-IMPORTANCE:1
BEGIN:VALARM
TRIGGER:-PT15M
ACTION:DISPLAY
DESCRIPTION:Reminder
END:VALARM
END:VEVENT
END:VCALENDAR
