BEGIN:VCALENDAR
PRODID: -//Microsoft Corporation//Outlook 12.0 MIMEDIR//EN
VERSION:2.0
METHOD:PUBLISH
X-MS-OLK-FORCEINSPECTOROPEN:TRUE
BEGIN:VEVENT
CLASS:PUBLIC
CREATED:2026-04-21T03:31:46
DESCRIPTION:Have you ever wondered about the purpose of an IEP and what you need to know related to IEP development for students with dyslexia? This session will help you understand the components of an Individualized Education Program (IEP) and how important they are for guiding instruction, providing appropriate supports and services, and helping students with dyslexia be successful in their learning.  Dyslexia interventionists and special education teachers will learn about their roles in preparing for an ARD/IEP meeting, what to expect during the ARD/IEP meeting, and best practices for implementing IEPs after the meeting. In addition, participants will be provided resources they can reference for additional guidance.

This session is aligned with the Dyslexia, IEP Content and Development, IEP Implementation, Least Restrictive Environment, State Assessment Participating, Properly Constituted ARD, and Data Analysis component(s) of the TEA-required self-assessment.

DTEND:20230919T153000
DTSTAMP:20230919T083000
DTSTART:20230919T083000
LAST-MODIFIED:2026-04-21T03:31:46
LOCATION:ESC Region 11
PRIORITY:5
SEQUENCE:0
SUMMARY;LANGUAGE=en-us:Introduction to an Individualized Education Program (IEP) for Dyslexia (2023-2024)
TRANSP:OPAQUE
UID:CentralRegistration@esc11.net
SUMMARY:Introduction to an Individualized Education Program (IEP) for Dyslexia (2023-2024)
X-MICROSOFT-CDO-BUSYSTATUS:BUSY
X-MICROSOFT-CDO-IMPORTANCE:1
BEGIN:VALARM
TRIGGER:-PT15M
ACTION:DISPLAY
DESCRIPTION:Reminder
END:VALARM
END:VEVENT
END:VCALENDAR
