BEGIN:VCALENDAR
PRODID: -//Microsoft Corporation//Outlook 12.0 MIMEDIR//EN
VERSION:2.0
METHOD:PUBLISH
X-MS-OLK-FORCEINSPECTOROPEN:TRUE
BEGIN:VEVENT
CLASS:PUBLIC
CREATED:2026-04-20T16:31:34
DESCRIPTION:"Leadership and learning are indispensable to each other."  - John F. Kennedy

These sessions are provided for all special education evaluation leadership personnel.  The purpose of these sessions is to collaborate on current issues in the areas of assessment, professional responsibilities, and legal issues while building a network of support in the region.  

This session is aligned with the Evaluation, IEP Content and Development, and Properly Constituted ARD component(s) of the TEA-required self-assessment and SPP Indicator 11 and 12.

DTEND:20230922T120000
DTSTAMP:20230922T090000
DTSTART:20230922T090000
LAST-MODIFIED:2026-04-20T16:31:34
LOCATION:ESC Region 11
PRIORITY:5
SEQUENCE:0
SUMMARY;LANGUAGE=en-us:Evaluation Leadership Group
TRANSP:OPAQUE
UID:CentralRegistration@esc11.net
SUMMARY:Evaluation Leadership Group
X-MICROSOFT-CDO-BUSYSTATUS:BUSY
X-MICROSOFT-CDO-IMPORTANCE:1
BEGIN:VALARM
TRIGGER:-PT15M
ACTION:DISPLAY
DESCRIPTION:Reminder
END:VALARM
END:VEVENT
END:VCALENDAR
