BEGIN:VCALENDAR
PRODID: -//Microsoft Corporation//Outlook 12.0 MIMEDIR//EN
VERSION:2.0
METHOD:PUBLISH
X-MS-OLK-FORCEINSPECTOROPEN:TRUE
BEGIN:VEVENT
CLASS:PUBLIC
CREATED:2026-04-21T03:26:22
DESCRIPTION:This webinar series will cover all aspects of Domain I: Student Achievement, Domain II: School Progress, and Domain III: Closing the Gaps for those new to accountability or needing a refresher. Topics will include calculations, methodology, and indicators. Please note the different times and dates the webinar series will be offered.
DTEND:20230829T103000
DTSTAMP:20230829T090000
DTSTART:20230829T090000
LAST-MODIFIED:2026-04-21T03:26:22
LOCATION:Canvas Course
PRIORITY:5
SEQUENCE:0
SUMMARY;LANGUAGE=en-us:State Accountability System Webinars - Domain I Student Achievement, Domain II School Progress, and Domain III Closing the Gaps
TRANSP:OPAQUE
UID:CentralRegistration@esc11.net
SUMMARY:State Accountability System Webinars - Domain I Student Achievement, Domain II School Progress, and Domain III Closing the Gaps
X-MICROSOFT-CDO-BUSYSTATUS:BUSY
X-MICROSOFT-CDO-IMPORTANCE:1
BEGIN:VALARM
TRIGGER:-PT15M
ACTION:DISPLAY
DESCRIPTION:Reminder
END:VALARM
END:VEVENT
END:VCALENDAR
