BEGIN:VCALENDAR
PRODID: -//Microsoft Corporation//Outlook 12.0 MIMEDIR//EN
VERSION:2.0
METHOD:PUBLISH
X-MS-OLK-FORCEINSPECTOROPEN:TRUE
BEGIN:VEVENT
CLASS:PUBLIC
CREATED:2026-04-21T16:58:41
DESCRIPTION:This series of five one-day seminars is a required component of the ESC Region 11 Dyslexia Therapist Training Program. The seminars are offered throughout the school year during year one of the two-year program.  The seminars provide just-in-time training on Take Flight components and ongoing feedback to the therapist trainees as they implement the curriculum with students.  Only individuals enrolled in the ESC Region 11 Dyslexia Therapist Training will be able to register for this series.
DTEND:20230922T160000
DTSTAMP:20230922T080000
DTSTART:20230922T080000
LAST-MODIFIED:2026-04-21T16:58:41
LOCATION:ESC Region 11 - Innovate A
PRIORITY:5
SEQUENCE:0
SUMMARY;LANGUAGE=en-us:ESC Region 11 - Dyslexia Therapist Training Introductory Seminars (Take Flight: A Comprehensive Intervention for Students with Dyslexia) - Cohort 2
TRANSP:OPAQUE
UID:CentralRegistration@esc11.net
SUMMARY:ESC Region 11 - Dyslexia Therapist Training Introductory Seminars (Take Flight: A Comprehensive Intervention for Students with Dyslexia) - Cohort 2
X-MICROSOFT-CDO-BUSYSTATUS:BUSY
X-MICROSOFT-CDO-IMPORTANCE:1
BEGIN:VALARM
TRIGGER:-PT15M
ACTION:DISPLAY
DESCRIPTION:Reminder
END:VALARM
END:VEVENT
END:VCALENDAR
