BEGIN:VCALENDAR
PRODID: -//Microsoft Corporation//Outlook 12.0 MIMEDIR//EN
VERSION:2.0
METHOD:PUBLISH
X-MS-OLK-FORCEINSPECTOROPEN:TRUE
BEGIN:VEVENT
CLASS:PUBLIC
CREATED:2026-04-24T10:43:11
DESCRIPTION:This 6-12 ELAR session will explore the purpose of literacy circles and effective implementation, and it will allow time to collaborate and plan for a student experience with literacy circles.
DTEND:20230323T153000
DTSTAMP:20230323T123000
DTSTART:20230323T123000
LAST-MODIFIED:2026-04-24T10:43:11
LOCATION:ESC Region 11
PRIORITY:5
SEQUENCE:0
SUMMARY;LANGUAGE=en-us:Literacy Circles: Building a Community of Readers
TRANSP:OPAQUE
UID:CentralRegistration@esc11.net
SUMMARY:Literacy Circles: Building a Community of Readers
X-MICROSOFT-CDO-BUSYSTATUS:BUSY
X-MICROSOFT-CDO-IMPORTANCE:1
BEGIN:VALARM
TRIGGER:-PT15M
ACTION:DISPLAY
DESCRIPTION:Reminder
END:VALARM
END:VEVENT
END:VCALENDAR
