BEGIN:VCALENDAR
PRODID: -//Microsoft Corporation//Outlook 12.0 MIMEDIR//EN
VERSION:2.0
METHOD:PUBLISH
X-MS-OLK-FORCEINSPECTOROPEN:TRUE
BEGIN:VEVENT
CLASS:PUBLIC
CREATED:2026-04-21T03:35:08
DESCRIPTION:The purpose of this course is to ensure that candidates have the knowledge and skills to successfully teach literacy and language instruction that is grounded in the science of reading. In addition, this course will prepare them for the Science of Teaching Reading exam that is required by the state of Texas.
DTEND:20260831T160000
DTSTAMP:20220815T080000
DTSTART:20220815T080000
LAST-MODIFIED:2026-04-21T03:35:08
LOCATION:Online
PRIORITY:5
SEQUENCE:0
SUMMARY;LANGUAGE=en-us:GoTeach11 Science of Teaching Reading
TRANSP:OPAQUE
UID:CentralRegistration@esc11.net
SUMMARY:GoTeach11 Science of Teaching Reading
X-MICROSOFT-CDO-BUSYSTATUS:BUSY
X-MICROSOFT-CDO-IMPORTANCE:1
BEGIN:VALARM
TRIGGER:-PT15M
ACTION:DISPLAY
DESCRIPTION:Reminder
END:VALARM
END:VEVENT
END:VCALENDAR
