BEGIN:VCALENDAR
PRODID: -//Microsoft Corporation//Outlook 12.0 MIMEDIR//EN
VERSION:2.0
METHOD:PUBLISH
X-MS-OLK-FORCEINSPECTOROPEN:TRUE
BEGIN:VEVENT
CLASS:PUBLIC
CREATED:2026-04-20T03:15:50
DESCRIPTION:How do your current instructional math practices align with the new, non-multiple-choice questions for STAAR?  One component of the STAAR redesign is the addition of new, non-multiple-choice questions to meet a 75% cap on multiple-choice questions. 

In this face-to-face session, participants will engage in math instructional strategies to support the following non-multiple-choice question types: Graphing and Fraction Models.

DTEND:20221111T160000
DTSTAMP:20221111T090000
DTSTART:20221111T090000
LAST-MODIFIED:2026-04-20T03:15:50
LOCATION:ESC Region 11
PRIORITY:5
SEQUENCE:0
SUMMARY;LANGUAGE=en-us:STAAR Redesign Instructional Strategies: Graphing and Fraction Models
TRANSP:OPAQUE
UID:CentralRegistration@esc11.net
SUMMARY:STAAR Redesign Instructional Strategies: Graphing and Fraction Models
X-MICROSOFT-CDO-BUSYSTATUS:BUSY
X-MICROSOFT-CDO-IMPORTANCE:1
BEGIN:VALARM
TRIGGER:-PT15M
ACTION:DISPLAY
DESCRIPTION:Reminder
END:VALARM
END:VEVENT
END:VCALENDAR
