BEGIN:VCALENDAR
PRODID: -//Microsoft Corporation//Outlook 12.0 MIMEDIR//EN
VERSION:2.0
METHOD:PUBLISH
X-MS-OLK-FORCEINSPECTOROPEN:TRUE
BEGIN:VEVENT
CLASS:PUBLIC
CREATED:2026-04-21T17:29:49
DESCRIPTION:Are you a district or charter school Early Childhood leader who is looking for an opportunity to network with others in a similar position? Come join us for a time of information, networking, and sharing ideas about High-Quality Early Childhood Education. ESC Region 11 staff will provide Early Childhood updates from TEA and share future early learning opportunities.  


DTEND:20230414T120000
DTSTAMP:20230414T090000
DTSTART:20230414T090000
LAST-MODIFIED:2026-04-21T17:29:49
LOCATION:ESC Region 11
PRIORITY:5
SEQUENCE:0
SUMMARY;LANGUAGE=en-us:Early Childhood Education Networking Meeting
TRANSP:OPAQUE
UID:CentralRegistration@esc11.net
SUMMARY:Early Childhood Education Networking Meeting
X-MICROSOFT-CDO-BUSYSTATUS:BUSY
X-MICROSOFT-CDO-IMPORTANCE:1
BEGIN:VALARM
TRIGGER:-PT15M
ACTION:DISPLAY
DESCRIPTION:Reminder
END:VALARM
END:VEVENT
END:VCALENDAR
