BEGIN:VCALENDAR
PRODID: -//Microsoft Corporation//Outlook 12.0 MIMEDIR//EN
VERSION:2.0
METHOD:PUBLISH
X-MS-OLK-FORCEINSPECTOROPEN:TRUE
BEGIN:VEVENT
CLASS:PUBLIC
CREATED:2026-04-20T23:29:11
DESCRIPTION:School personnel responsible for the vision screening process will review and obtain information needed to be certified to perform school vision screening. Any questions or concerns should be sent to Sheron Fountain, DSHS trainer, at 817-201-6338. Participants who arrive more than 15 minutes after the starting time will not be admitted to the workshop by the trainer. The Department of State Health Services provides the training for this certification.
DTEND:20220907T160000
DTSTAMP:20220907T090000
DTSTART:20220907T090000
LAST-MODIFIED:2026-04-20T23:29:11
LOCATION:Tx Department of Transportation, Regional Training Center 2501 SW Loop 820 Fort Worth, TX 76133 P:817-370-6500
PRIORITY:5
SEQUENCE:0
SUMMARY;LANGUAGE=en-us:Vision Screener Training
TRANSP:OPAQUE
UID:CentralRegistration@esc11.net
SUMMARY:Vision Screener Training
X-MICROSOFT-CDO-BUSYSTATUS:BUSY
X-MICROSOFT-CDO-IMPORTANCE:1
BEGIN:VALARM
TRIGGER:-PT15M
ACTION:DISPLAY
DESCRIPTION:Reminder
END:VALARM
END:VEVENT
END:VCALENDAR
