BEGIN:VCALENDAR
PRODID: -//Microsoft Corporation//Outlook 12.0 MIMEDIR//EN
VERSION:2.0
METHOD:PUBLISH
X-MS-OLK-FORCEINSPECTOROPEN:TRUE
BEGIN:VEVENT
CLASS:PUBLIC
CREATED:2026-04-22T03:52:48
DESCRIPTION:This three-day workshop engages participants in learning the principles for designing, assessing, and managing standards-focused projects as well as using performance assessments to judge the relevant work generated by 21st Century learners. Through a combination of direct instruction, video analysis, and hands-on group work, participants have the opportunity to plan, design, and receive peer feedback on an engaging PBL unit.
DTEND:20220518T160000
DTSTAMP:20220518T083000
DTSTART:20220518T083000
LAST-MODIFIED:2026-04-22T03:52:48
LOCATION:ESC Region 11
PRIORITY:5
SEQUENCE:0
SUMMARY;LANGUAGE=en-us:Project-Based Learning (PBL): Three-Day Academy
TRANSP:OPAQUE
UID:CentralRegistration@esc11.net
SUMMARY:Project-Based Learning (PBL): Three-Day Academy
X-MICROSOFT-CDO-BUSYSTATUS:BUSY
X-MICROSOFT-CDO-IMPORTANCE:1
BEGIN:VALARM
TRIGGER:-PT15M
ACTION:DISPLAY
DESCRIPTION:Reminder
END:VALARM
END:VEVENT
END:VCALENDAR
