BEGIN:VCALENDAR
PRODID: -//Microsoft Corporation//Outlook 12.0 MIMEDIR//EN
VERSION:2.0
METHOD:PUBLISH
X-MS-OLK-FORCEINSPECTOROPEN:TRUE
BEGIN:VEVENT
CLASS:PUBLIC
CREATED:2026-04-25T22:39:23
DESCRIPTION:So you have content, but are you are looking for ways to engage your students? In this session, you will learn how to access Discovery Education's research-based, SOS Instructional Strategies. SOS Instructional Strategies provide more than 100 ideas for incorporating content in meaningful, effective, and practical ways to help meet the needs of all of your students. Oh, and they're easy to use, too. Let Discovery Education's SOS Instructional Strategies come to the rescue!   





DTEND:20220127T163000
DTSTAMP:20220127T153000
DTSTART:20220127T153000
LAST-MODIFIED:2026-04-25T22:39:23
LOCATION:Stephenville ISD
PRIORITY:5
SEQUENCE:0
SUMMARY;LANGUAGE=en-us:SOS for Social Studies
TRANSP:OPAQUE
UID:CentralRegistration@esc11.net
SUMMARY:SOS for Social Studies
X-MICROSOFT-CDO-BUSYSTATUS:BUSY
X-MICROSOFT-CDO-IMPORTANCE:1
BEGIN:VALARM
TRIGGER:-PT15M
ACTION:DISPLAY
DESCRIPTION:Reminder
END:VALARM
END:VEVENT
END:VCALENDAR
