BEGIN:VCALENDAR
PRODID: -//Microsoft Corporation//Outlook 12.0 MIMEDIR//EN
VERSION:2.0
METHOD:PUBLISH
X-MS-OLK-FORCEINSPECTOROPEN:TRUE
BEGIN:VEVENT
CLASS:PUBLIC
CREATED:2026-04-19T21:08:15
DESCRIPTION:In this session, updates to the accessibility features and designated supports for STAAR will be explored.  Participants will identify the difference between accessibility features and designated supports, and they will gain a better understanding of the decision-making process in determining eligibility for designated supports.  This session is designed for teachers, test administrators, and other professionals who are new to the STAAR accommodations and designated supports.
DTEND:20211130T120000
DTSTAMP:20211130T090000
DTSTART:20211130T090000
LAST-MODIFIED:2026-04-19T21:08:15
LOCATION:ESC Region 11
PRIORITY:5
SEQUENCE:0
SUMMARY;LANGUAGE=en-us:Accessibility Features or Designated Support - How to Determine the Two!
TRANSP:OPAQUE
UID:CentralRegistration@esc11.net
SUMMARY:Accessibility Features or Designated Support - How to Determine the Two!
X-MICROSOFT-CDO-BUSYSTATUS:BUSY
X-MICROSOFT-CDO-IMPORTANCE:1
BEGIN:VALARM
TRIGGER:-PT15M
ACTION:DISPLAY
DESCRIPTION:Reminder
END:VALARM
END:VEVENT
END:VCALENDAR
