BEGIN:VCALENDAR
PRODID: -//Microsoft Corporation//Outlook 12.0 MIMEDIR//EN
VERSION:2.0
METHOD:PUBLISH
X-MS-OLK-FORCEINSPECTOROPEN:TRUE
BEGIN:VEVENT
CLASS:PUBLIC
CREATED:2026-04-25T19:43:05
DESCRIPTION:The National Organization for Victim Assistance (NOVA) training will prepare counselors to serve on Crisis Recovery Teams to help schools recover from situations by learning the basics of crisis intervention. Session topics include the NOVA crisis response model; group victim intervention techniques; the experience and impact of trauma on emotions, memory, and cognitive abilities; death notifications; trauma reactions in children; cultural influences on trauma; and CRT leadership. This is a three-day workshop held at Keller ISD - Annex Building  10310 Riverside Dr. Keller TX 76244
DTEND:20211202T170000
DTSTAMP:20211202T080000
DTSTART:20211202T080000
LAST-MODIFIED:2026-04-25T19:43:05
LOCATION:Keller ISD - Administration Building, 350 Keller Parkway, Keller, Texas 76248
PRIORITY:5
SEQUENCE:0
SUMMARY;LANGUAGE=en-us:NOVA Crisis Response Team Training - (LPC CREDIT ONLY)
TRANSP:OPAQUE
UID:CentralRegistration@esc11.net
SUMMARY:NOVA Crisis Response Team Training - (LPC CREDIT ONLY)
X-MICROSOFT-CDO-BUSYSTATUS:BUSY
X-MICROSOFT-CDO-IMPORTANCE:1
BEGIN:VALARM
TRIGGER:-PT15M
ACTION:DISPLAY
DESCRIPTION:Reminder
END:VALARM
END:VEVENT
END:VCALENDAR
