BEGIN:VCALENDAR
PRODID: -//Microsoft Corporation//Outlook 12.0 MIMEDIR//EN
VERSION:2.0
METHOD:PUBLISH
X-MS-OLK-FORCEINSPECTOROPEN:TRUE
BEGIN:VEVENT
CLASS:PUBLIC
CREATED:2026-04-23T00:21:42
DESCRIPTION:This training will prepare administrators to guide the implementation of the SLO (Student Learning Objective) process in their districts.  

SLOs are long-term goals for student learning crafted by teachers and administrators. Often working in teams with peer, school, and district support, teachers develop these goals to help define what success looks like for their students and plan backwards in order to ensure that instruction is purposefully guiding schools, teachers, and students toward a common vision of success.

The focus of this training will be reviewing SLO procedures and the newly released recommendations.
DTEND:20220614T153000
DTSTAMP:20220614T090000
DTSTART:20220614T090000
LAST-MODIFIED:2026-04-23T00:21:42
LOCATION:ESC Region 11
PRIORITY:5
SEQUENCE:0
SUMMARY;LANGUAGE=en-us:Student Learning Objectives (SLO) Review & Update
TRANSP:OPAQUE
UID:CentralRegistration@esc11.net
SUMMARY:Student Learning Objectives (SLO) Review & Update
X-MICROSOFT-CDO-BUSYSTATUS:BUSY
X-MICROSOFT-CDO-IMPORTANCE:1
BEGIN:VALARM
TRIGGER:-PT15M
ACTION:DISPLAY
DESCRIPTION:Reminder
END:VALARM
END:VEVENT
END:VCALENDAR
