BEGIN:VCALENDAR
PRODID: -//Microsoft Corporation//Outlook 12.0 MIMEDIR//EN
VERSION:2.0
METHOD:PUBLISH
X-MS-OLK-FORCEINSPECTOROPEN:TRUE
BEGIN:VEVENT
CLASS:PUBLIC
CREATED:2026-04-24T18:57:59
DESCRIPTION:This session provides virtual training via Zoom for district staff and/or tutors to learn to use the Amplify platform and supports tutoring in reading, grades K-5.
DTEND:20211130T113000
DTSTAMP:20211130T083000
DTSTART:20211130T083000
LAST-MODIFIED:2026-04-24T18:57:59
LOCATION:ESC Region 11
PRIORITY:5
SEQUENCE:0
SUMMARY;LANGUAGE=en-us:Amplify Capstone Training for Tutors
TRANSP:OPAQUE
UID:CentralRegistration@esc11.net
SUMMARY:Amplify Capstone Training for Tutors
X-MICROSOFT-CDO-BUSYSTATUS:BUSY
X-MICROSOFT-CDO-IMPORTANCE:1
BEGIN:VALARM
TRIGGER:-PT15M
ACTION:DISPLAY
DESCRIPTION:Reminder
END:VALARM
END:VEVENT
END:VCALENDAR
