BEGIN:VCALENDAR
PRODID: -//Microsoft Corporation//Outlook 12.0 MIMEDIR//EN
VERSION:2.0
METHOD:PUBLISH
X-MS-OLK-FORCEINSPECTOROPEN:TRUE
BEGIN:VEVENT
CLASS:PUBLIC
CREATED:2026-04-22T08:13:03
DESCRIPTION:It is never too early for students to explore using vetted digital materials. Join us for an overview of resources available in TexQuest for student investigations and accommodations and how they integrate in the K-5 curriculum. Bring your laptop and get ready to explore TEKS-aligned articles, videos, images, and eBooks from Gale, Britannica, and ProQuest with features like text to speech, on-the-spot translations, lexile searches, and G-Suite functionality. Link to teacher resources available in EBSCO and TeachingBooks.net and enhance your lessons immediately. TexQuest is partially funded by the Texas State Legislature for participating K-12 public and open-enrollment charter schools.
DTEND:20211116T160000
DTSTAMP:20211116T130000
DTSTART:20211116T130000
LAST-MODIFIED:2026-04-22T08:13:03
LOCATION:Virtual
PRIORITY:5
SEQUENCE:0
SUMMARY;LANGUAGE=en-us:TexQuest: Digital Resources for K-5 Classrooms
TRANSP:OPAQUE
UID:CentralRegistration@esc11.net
SUMMARY:TexQuest: Digital Resources for K-5 Classrooms
X-MICROSOFT-CDO-BUSYSTATUS:BUSY
X-MICROSOFT-CDO-IMPORTANCE:1
BEGIN:VALARM
TRIGGER:-PT15M
ACTION:DISPLAY
DESCRIPTION:Reminder
END:VALARM
END:VEVENT
END:VCALENDAR
