BEGIN:VCALENDAR
PRODID: -//Microsoft Corporation//Outlook 12.0 MIMEDIR//EN
VERSION:2.0
METHOD:PUBLISH
X-MS-OLK-FORCEINSPECTOROPEN:TRUE
BEGIN:VEVENT
CLASS:PUBLIC
CREATED:2026-04-24T03:26:13
DESCRIPTION:This session will provide participants with an overview of the Clinical Teaching Internship during Phase 2 of the GoTeach11 teacher certification program.
DTEND:20210722T183000
DTSTAMP:20210722T173000
DTSTART:20210722T173000
LAST-MODIFIED:2026-04-24T03:26:13
LOCATION:Virtual - Zoom
PRIORITY:5
SEQUENCE:0
SUMMARY;LANGUAGE=en-us:GoTeach11 Phase 2 Orientation - Clinical Teachers
TRANSP:OPAQUE
UID:CentralRegistration@esc11.net
SUMMARY:GoTeach11 Phase 2 Orientation - Clinical Teachers
X-MICROSOFT-CDO-BUSYSTATUS:BUSY
X-MICROSOFT-CDO-IMPORTANCE:1
BEGIN:VALARM
TRIGGER:-PT15M
ACTION:DISPLAY
DESCRIPTION:Reminder
END:VALARM
END:VEVENT
END:VCALENDAR
