BEGIN:VCALENDAR
PRODID: -//Microsoft Corporation//Outlook 12.0 MIMEDIR//EN
VERSION:2.0
METHOD:PUBLISH
X-MS-OLK-FORCEINSPECTOROPEN:TRUE
BEGIN:VEVENT
CLASS:PUBLIC
CREATED:2026-04-25T06:44:21
DESCRIPTION:What can an online platform really do? This session will explore Desmos Activity Builder and various other free resources that can enhance learning inside and outside your classroom virtually. (and did we mention it was free?)  This session is paired with Digital Tools in the Secondary Math Series: Part 1 - Online Calculators in the morning. You are welcome to register for one or both! This session will be held at Legacy Learning Center: 501 Schoolhouse Road, Haslet, TX  76052
DTEND:20210922T153000
DTSTAMP:20210922T123000
DTSTART:20210922T123000
LAST-MODIFIED:2026-04-25T06:44:21
LOCATION:ESC Region 11
PRIORITY:5
SEQUENCE:0
SUMMARY;LANGUAGE=en-us:Secondary Math World Tour: Digital Tools Part 2 - Web-Based Activities (@ Northwest ISD)
TRANSP:OPAQUE
UID:CentralRegistration@esc11.net
SUMMARY:Secondary Math World Tour: Digital Tools Part 2 - Web-Based Activities (@ Northwest ISD)
X-MICROSOFT-CDO-BUSYSTATUS:BUSY
X-MICROSOFT-CDO-IMPORTANCE:1
BEGIN:VALARM
TRIGGER:-PT15M
ACTION:DISPLAY
DESCRIPTION:Reminder
END:VALARM
END:VEVENT
END:VCALENDAR
