BEGIN:VCALENDAR
PRODID: -//Microsoft Corporation//Outlook 12.0 MIMEDIR//EN
VERSION:2.0
METHOD:PUBLISH
X-MS-OLK-FORCEINSPECTOROPEN:TRUE
BEGIN:VEVENT
CLASS:PUBLIC
CREATED:2026-04-24T15:13:55
DESCRIPTION:This virtual session is designed for participants that are new to Restorative Practice. We will explore the importance of creating positive learning environments for students. We will learn how Restorative Practices help guide positive conversations with students by creating Respect Agreements to help build and sustain a positive culture. Participants will also learn about Affect Statements and Restorative Questioning to promote mutual respect and care during teacher-student interactions.

DTEND:20210615T113000
DTSTAMP:20210615T100000
DTSTART:20210615T100000
LAST-MODIFIED:2026-04-24T15:13:55
LOCATION:Virtiual Via Zoom
PRIORITY:5
SEQUENCE:0
SUMMARY;LANGUAGE=en-us:Bite-Size Summer Learning Series: Respect Agreements and Restorative Conversations
TRANSP:OPAQUE
UID:CentralRegistration@esc11.net
SUMMARY:Bite-Size Summer Learning Series: Respect Agreements and Restorative Conversations
X-MICROSOFT-CDO-BUSYSTATUS:BUSY
X-MICROSOFT-CDO-IMPORTANCE:1
BEGIN:VALARM
TRIGGER:-PT15M
ACTION:DISPLAY
DESCRIPTION:Reminder
END:VALARM
END:VEVENT
END:VCALENDAR
