BEGIN:VCALENDAR
PRODID: -//Microsoft Corporation//Outlook 12.0 MIMEDIR//EN
VERSION:2.0
METHOD:PUBLISH
X-MS-OLK-FORCEINSPECTOROPEN:TRUE
BEGIN:VEVENT
CLASS:PUBLIC
CREATED:2026-04-22T03:07:55
DESCRIPTION:In this second workshop, we will continue our elevating success journey through the Effective Schools Framework by conducting a deep dive into Prioritized Lever 1: Strong School Leadership & Planning, Prioritized Lever 2: Effective Well Supported Teachers, Prioritized Lever 3: Positive School Culture.  By examining these best practices that effective schools use daily, we will understand their connectedness in a continuous improvement process and be able to identify their key practices and success criteria at full implementation. This session is offered twice so that participants may choose a timeframe that best suits their schedule.
DTEND:20210517T120000
DTSTAMP:20210517T090000
DTSTART:20210517T090000
LAST-MODIFIED:2026-04-22T03:07:55
LOCATION:Zoom
PRIORITY:5
SEQUENCE:0
SUMMARY;LANGUAGE=en-us:Elevating Success Workshop #2 ESF Levers 1-3 Deep Dive
TRANSP:OPAQUE
UID:CentralRegistration@esc11.net
SUMMARY:Elevating Success Workshop #2 ESF Levers 1-3 Deep Dive
X-MICROSOFT-CDO-BUSYSTATUS:BUSY
X-MICROSOFT-CDO-IMPORTANCE:1
BEGIN:VALARM
TRIGGER:-PT15M
ACTION:DISPLAY
DESCRIPTION:Reminder
END:VALARM
END:VEVENT
END:VCALENDAR
