BEGIN:VCALENDAR
PRODID: -//Microsoft Corporation//Outlook 12.0 MIMEDIR//EN
VERSION:2.0
METHOD:PUBLISH
X-MS-OLK-FORCEINSPECTOROPEN:TRUE
BEGIN:VEVENT
CLASS:PUBLIC
CREATED:2026-04-21T00:21:35
DESCRIPTION:Writing is a part of everyday life. We compose messages, write reports, create lists, and keep track of data every day. Centers are optimal places for early childhood students to simulate these experiences in meaningful tasks. Planning for writing in centers is a thoughtful process balancing materials, models, and methods. Get your notebook and pencil ready to write down some ideas to use in your classroom!
DTEND:20210729T150000
DTSTAMP:20210729T130000
DTSTART:20210729T130000
LAST-MODIFIED:2026-04-21T00:21:35
LOCATION:ESC Region 11
PRIORITY:5
SEQUENCE:0
SUMMARY;LANGUAGE=en-us:Early Childhood: Authentic Writing Experiences in Centers
TRANSP:OPAQUE
UID:CentralRegistration@esc11.net
SUMMARY:Early Childhood: Authentic Writing Experiences in Centers
X-MICROSOFT-CDO-BUSYSTATUS:BUSY
X-MICROSOFT-CDO-IMPORTANCE:1
BEGIN:VALARM
TRIGGER:-PT15M
ACTION:DISPLAY
DESCRIPTION:Reminder
END:VALARM
END:VEVENT
END:VCALENDAR
