BEGIN:VCALENDAR
PRODID: -//Microsoft Corporation//Outlook 12.0 MIMEDIR//EN
VERSION:2.0
METHOD:PUBLISH
X-MS-OLK-FORCEINSPECTOROPEN:TRUE
BEGIN:VEVENT
CLASS:PUBLIC
CREATED:2026-04-21T10:34:25
DESCRIPTION:Kindergarten and Grade 1 teachers from eligible schools will (1) examine TEKS-based learning progressions and critical checkpoints for student understanding and (2) experience classroom-ready activities, including formative assessment and follow-up activities that account for learner variability. Teachers will build a toolkit of strategies and key questions for students with disabilities, English language learners, students struggling to learn mathematics, and gifted learners. Structures that provide opportunities for meaningful practice and feedback will be explored. With hands-on activities focusing on grade-level TEKS, this academy is designed to strengthen teachers' knowledge of mathematics concepts and processes, improve overall mathematics instruction, and support student success. Upon successful completion, eligible Kindergarten and Grade 1 teachers will receive a stipend.
DTEND:20210624T160000
DTSTAMP:20210624T080000
DTSTART:20210624T080000
LAST-MODIFIED:2026-04-21T10:34:25
LOCATION:ESC Region 11
PRIORITY:5
SEQUENCE:0
SUMMARY;LANGUAGE=en-us:2021 Mathematics Achievement Academy, Kindergarten - 1st Grade
TRANSP:OPAQUE
UID:CentralRegistration@esc11.net
SUMMARY:2021 Mathematics Achievement Academy, Kindergarten - 1st Grade
X-MICROSOFT-CDO-BUSYSTATUS:BUSY
X-MICROSOFT-CDO-IMPORTANCE:1
BEGIN:VALARM
TRIGGER:-PT15M
ACTION:DISPLAY
DESCRIPTION:Reminder
END:VALARM
END:VEVENT
END:VCALENDAR
