BEGIN:VCALENDAR
PRODID: -//Microsoft Corporation//Outlook 12.0 MIMEDIR//EN
VERSION:2.0
METHOD:PUBLISH
X-MS-OLK-FORCEINSPECTOROPEN:TRUE
BEGIN:VEVENT
CLASS:PUBLIC
CREATED:2026-04-23T14:33:14
DESCRIPTION:This session is focused on providing teachers of English Learners with the tools they need to intentionally use academic vocabulary in their instruction while giving students the strategies they need to explore, describe, and contextualize academic vocabulary across all content areas.  Join us as we explore Marzano's Six-Step Process for Vocabulary Acquisition: 1. Describe Visually 2. Describe in Writing 3. Draw 4. Use Frayer Models 5. Accountable Talk 6. Play with Words.  We will also explore digital tools that will allow teachers to use these strategies in virtual classroom settings!
DTEND:20210204T113000
DTSTAMP:20210204T083000
DTSTART:20210204T083000
LAST-MODIFIED:2026-04-23T14:33:14
LOCATION:Virtual via Zoom
PRIORITY:5
SEQUENCE:0
SUMMARY;LANGUAGE=en-us:Marzano's 6-Step Process for Learning Vocabulary for English Learners
TRANSP:OPAQUE
UID:CentralRegistration@esc11.net
SUMMARY:Marzano's 6-Step Process for Learning Vocabulary for English Learners
X-MICROSOFT-CDO-BUSYSTATUS:BUSY
X-MICROSOFT-CDO-IMPORTANCE:1
BEGIN:VALARM
TRIGGER:-PT15M
ACTION:DISPLAY
DESCRIPTION:Reminder
END:VALARM
END:VEVENT
END:VCALENDAR
