BEGIN:VCALENDAR
PRODID: -//Microsoft Corporation//Outlook 12.0 MIMEDIR//EN
VERSION:2.0
METHOD:PUBLISH
X-MS-OLK-FORCEINSPECTOROPEN:TRUE
BEGIN:VEVENT
CLASS:PUBLIC
CREATED:2026-04-21T14:08:41
DESCRIPTION:This is a regional planning session for Region 11 visual impairment professionals. Topics to be covered will include the Texas Student Assessment Program, modification and accommodations, assessment and forms unique to students with visual impairments, American Printing House for the Blind student registration, PEIMS data, and other timely updates as well as planning of events and workshops needed by the region.
DTEND:20210115T153000
DTSTAMP:20210115T123000
DTSTART:20210115T123000
LAST-MODIFIED:2026-04-21T14:08:41
LOCATION:online
PRIORITY:5
SEQUENCE:0
SUMMARY;LANGUAGE=en-us:Regional Planning for Professionals of Students with Visual Impairments
TRANSP:OPAQUE
UID:CentralRegistration@esc11.net
SUMMARY:Regional Planning for Professionals of Students with Visual Impairments
X-MICROSOFT-CDO-BUSYSTATUS:BUSY
X-MICROSOFT-CDO-IMPORTANCE:1
BEGIN:VALARM
TRIGGER:-PT15M
ACTION:DISPLAY
DESCRIPTION:Reminder
END:VALARM
END:VEVENT
END:VCALENDAR
