BEGIN:VCALENDAR
PRODID: -//Microsoft Corporation//Outlook 12.0 MIMEDIR//EN
VERSION:2.0
METHOD:PUBLISH
X-MS-OLK-FORCEINSPECTOROPEN:TRUE
BEGIN:VEVENT
CLASS:PUBLIC
CREATED:2026-04-25T14:17:57
DESCRIPTION:The Effective Schools Framework is an aspirational framework identifying and describing the highest-leverage school practices that, when implemented, ensure improved student outcomes. During this week-long blended course, both principals and District Coordinators NEW to campuses in School Improve will unpack the 5 Prioritized Levers to create a common language for strategic and sustainable campus improvement.  

The first two sessions are open ONLY to principals or DCSIs serving F or Comprehensive Campuses NEW to School Improvement:
August 24-28, 2020 
August 31 - September 4, 2020

The second two sessions are open to principals or DCSIs serving D Campuses:
September 21-25, 2020
September 28 - October 2, 2020
DTEND:20200922T160000
DTSTAMP:20200922T080000
DTSTART:20200922T080000
LAST-MODIFIED:2026-04-25T14:17:57
LOCATION:Canvas
PRIORITY:5
SEQUENCE:0
SUMMARY;LANGUAGE=en-us:Effective Schools Framework Fall 2020 - 2021
TRANSP:OPAQUE
UID:CentralRegistration@esc11.net
SUMMARY:Effective Schools Framework Fall 2020 - 2021
X-MICROSOFT-CDO-BUSYSTATUS:BUSY
X-MICROSOFT-CDO-IMPORTANCE:1
BEGIN:VALARM
TRIGGER:-PT15M
ACTION:DISPLAY
DESCRIPTION:Reminder
END:VALARM
END:VEVENT
END:VCALENDAR
