BEGIN:VCALENDAR
PRODID: -//Microsoft Corporation//Outlook 12.0 MIMEDIR//EN
VERSION:2.0
METHOD:PUBLISH
X-MS-OLK-FORCEINSPECTOROPEN:TRUE
BEGIN:VEVENT
CLASS:PUBLIC
CREATED:2026-04-19T11:03:02
DESCRIPTION:Instructional leaders of school districts and charter schools in Region 11 will receive the latest updates from the local, state, and national levels. Sessions will provide networking opportunities and opportunities to give input on future services to be offered by ESC Region 11.
DTEND:20200917T130000
DTSTAMP:20200917T090000
DTSTART:20200917T090000
LAST-MODIFIED:2026-04-19T11:03:02
LOCATION:Virtual via Zoom
PRIORITY:5
SEQUENCE:0
SUMMARY;LANGUAGE=en-us:INSIGHT: Instructional Leaders Advisory Meeting 2020-2021
TRANSP:OPAQUE
UID:CentralRegistration@esc11.net
SUMMARY:INSIGHT: Instructional Leaders Advisory Meeting 2020-2021
X-MICROSOFT-CDO-BUSYSTATUS:BUSY
X-MICROSOFT-CDO-IMPORTANCE:1
BEGIN:VALARM
TRIGGER:-PT15M
ACTION:DISPLAY
DESCRIPTION:Reminder
END:VALARM
END:VEVENT
END:VCALENDAR
