BEGIN:VCALENDAR
PRODID: -//Microsoft Corporation//Outlook 12.0 MIMEDIR//EN
VERSION:2.0
METHOD:PUBLISH
X-MS-OLK-FORCEINSPECTOROPEN:TRUE
BEGIN:VEVENT
CLASS:PUBLIC
CREATED:2026-04-20T18:35:08
DESCRIPTION:During the 83rd Legislature, House Bill 1952 was signed into action. This bill requires administrators to complete professional development at least every three years in the area of discipline related to Chapter 37 of the Texas Education Code. This training is designed to highlight updates to Chapter 37 and ensure shared understanding of any statutory changes to the code. Participants will also brainstorm strategies with colleagues to reduce the number of student discipline infractions on their campus.
DTEND:20200803T120000
DTSTAMP:20200803T090000
DTSTART:20200803T090000
LAST-MODIFIED:2026-04-20T18:35:08
LOCATION:Canvas Course
PRIORITY:5
SEQUENCE:0
SUMMARY;LANGUAGE=en-us:Chapter 37 Administrator Update - Online Course
TRANSP:OPAQUE
UID:CentralRegistration@esc11.net
SUMMARY:Chapter 37 Administrator Update - Online Course
X-MICROSOFT-CDO-BUSYSTATUS:BUSY
X-MICROSOFT-CDO-IMPORTANCE:1
BEGIN:VALARM
TRIGGER:-PT15M
ACTION:DISPLAY
DESCRIPTION:Reminder
END:VALARM
END:VEVENT
END:VCALENDAR
