BEGIN:VCALENDAR
PRODID: -//Microsoft Corporation//Outlook 12.0 MIMEDIR//EN
VERSION:2.0
METHOD:PUBLISH
X-MS-OLK-FORCEINSPECTOROPEN:TRUE
BEGIN:VEVENT
CLASS:PUBLIC
CREATED:2026-04-25T20:18:45
DESCRIPTION:Independent reading time is one of the biggest opportunities for teachers to provide differentiated instruction! Reading conferences are a great way to get to know your students as well as help them monitor their own reading life and set individual reading goals. This webinar will provide practical implementation tips for reading conferences and question stems, offering an opportunity for teachers to collaborate with one another!
DTEND:20200630T150000
DTSTAMP:20200630T140000
DTSTART:20200630T140000
LAST-MODIFIED:2026-04-25T20:18:45
LOCATION:Canvas Course
PRIORITY:5
SEQUENCE:0
SUMMARY;LANGUAGE=en-us:Turning Up the Volume in Young Adult Literacy: Implementing Reading Conferences
TRANSP:OPAQUE
UID:CentralRegistration@esc11.net
SUMMARY:Turning Up the Volume in Young Adult Literacy: Implementing Reading Conferences
X-MICROSOFT-CDO-BUSYSTATUS:BUSY
X-MICROSOFT-CDO-IMPORTANCE:1
BEGIN:VALARM
TRIGGER:-PT15M
ACTION:DISPLAY
DESCRIPTION:Reminder
END:VALARM
END:VEVENT
END:VCALENDAR
