BEGIN:VCALENDAR
PRODID: -//Microsoft Corporation//Outlook 12.0 MIMEDIR//EN
VERSION:2.0
METHOD:PUBLISH
X-MS-OLK-FORCEINSPECTOROPEN:TRUE
BEGIN:VEVENT
CLASS:PUBLIC
CREATED:2026-04-19T17:03:45
DESCRIPTION:Fill your educator toolbox to address student learning and independence! The goal of this training is to share language acquisition strategies that are enhanced through the use of technology (Read&Write).  We will target supports for English Language Learners in K-12, including HOW TO LEARN course content and equipping students with options to demonstrate mastery of learning.  Please join us as we partner with the Texthelp team who shares our passion for empowering ELL/ESL students by breaking language barriers to learning!  (Some familiarity with Read&Write is expected.)

This session is BYOD (Bring Your Own Device). Please bring your laptop fully charged.

This session is offered simultaneously face-to-face and via Zoom webinar.

NOTE: The Zoom meeting room link will only be sent to registered participants. Participants should anticipate active interaction in online discussions.
DTEND:20200220T113000
DTSTAMP:20200220T083000
DTSTART:20200220T083000
LAST-MODIFIED:2026-04-19T17:03:45
LOCATION:Canvas Course
PRIORITY:5
SEQUENCE:0
SUMMARY;LANGUAGE=en-us:Empowering EL/ESL Student Engagement & Expression Using Read&Write (Zoom Webinar)
TRANSP:OPAQUE
UID:CentralRegistration@esc11.net
SUMMARY:Empowering EL/ESL Student Engagement & Expression Using Read&Write (Zoom Webinar)
X-MICROSOFT-CDO-BUSYSTATUS:BUSY
X-MICROSOFT-CDO-IMPORTANCE:1
BEGIN:VALARM
TRIGGER:-PT15M
ACTION:DISPLAY
DESCRIPTION:Reminder
END:VALARM
END:VEVENT
END:VCALENDAR
