BEGIN:VCALENDAR
PRODID: -//Microsoft Corporation//Outlook 12.0 MIMEDIR//EN
VERSION:2.0
METHOD:PUBLISH
X-MS-OLK-FORCEINSPECTOROPEN:TRUE
BEGIN:VEVENT
CLASS:PUBLIC
CREATED:2026-04-22T17:08:11
DESCRIPTION:Current issues and topics regarding the Texas Student Assessment Program will be discussed in this session, which is presented by the Texas Statewide Network of Assessment Professionals (TSNAP). In order to receive the zoom link, you must register here https://www.esc11.net/Page/6881.
DTEND:20200618T120000
DTSTAMP:20200618T090000
DTSTART:20200618T090000
LAST-MODIFIED:2026-04-22T17:08:11
LOCATION:Zoom
PRIORITY:5
SEQUENCE:0
SUMMARY;LANGUAGE=en-us:Texas Statewide Network of Assessment Professionals (TSNAP) - TETN
TRANSP:OPAQUE
UID:CentralRegistration@esc11.net
SUMMARY:Texas Statewide Network of Assessment Professionals (TSNAP) - TETN
X-MICROSOFT-CDO-BUSYSTATUS:BUSY
X-MICROSOFT-CDO-IMPORTANCE:1
BEGIN:VALARM
TRIGGER:-PT15M
ACTION:DISPLAY
DESCRIPTION:Reminder
END:VALARM
END:VEVENT
END:VCALENDAR
